BEGIN:VCALENDAR
VERSION:2.0
PRODID:icalendar-ruby
CALSCALE:GREGORIAN
METHOD:PUBLISH
BEGIN:VEVENT
DTSTAMP:20260421T111255Z
UID:60-1523413@faithphx.org
DTSTART:20260329T141500Z
DTEND:20260329T151500Z
CLASS:PUBLIC
CREATED:20260420T202540
DESCRIPTION:Worship
LAST-MODIFIED:20260420T202540
LOCATION:
SUMMARY:Worship
URL;VALUE=URI:https://www.faithphx.org/events/worship/2026-03-29
END:VEVENT
END:VCALENDAR
