BEGIN:VCALENDAR
VERSION:2.0
PRODID:icalendar-ruby
CALSCALE:GREGORIAN
METHOD:PUBLISH
BEGIN:VEVENT
DTSTAMP:20260421T083032Z
UID:60-1523411@faithphx.org
DTSTART:20260315T141500Z
DTEND:20260315T151500Z
CLASS:PUBLIC
CREATED:20260420T202540
DESCRIPTION:Worship
LAST-MODIFIED:20260420T202540
LOCATION:
SUMMARY:Worship
URL;VALUE=URI:https://www.faithphx.org/events/worship/2026-03-15
END:VEVENT
END:VCALENDAR
