BEGIN:VCALENDAR
VERSION:2.0
PRODID:icalendar-ruby
CALSCALE:GREGORIAN
METHOD:PUBLISH
BEGIN:VEVENT
DTSTAMP:20260419T160428Z
UID:59-1514130@faithphx.org
DTSTART:20260329T220000Z
DTEND:20260329T230000Z
CLASS:PUBLIC
CREATED:20260419T115322
DESCRIPTION:Teens
LAST-MODIFIED:20260419T115322
LOCATION:Faith of Phoenixville
SUMMARY:Teens
URL;VALUE=URI:https://www.faithphx.org/events/teens/2026-03-29
END:VEVENT
END:VCALENDAR
