BEGIN:VCALENDAR
VERSION:2.0
PRODID:icalendar-ruby
CALSCALE:GREGORIAN
METHOD:PUBLISH
BEGIN:VEVENT
DTSTAMP:20260419T143850Z
UID:59-1513208@faithphx.org
DTSTART:20260322T220000Z
DTEND:20260322T230000Z
CLASS:PUBLIC
CREATED:20260419T081119
DESCRIPTION:Teens
LAST-MODIFIED:20260419T081119
LOCATION:Faith of Phoenixville
SUMMARY:Teens
URL;VALUE=URI:https://www.faithphx.org/events/teens/2026-03-22
END:VEVENT
END:VCALENDAR
