BEGIN:VCALENDAR
VERSION:2.0
PRODID:icalendar-ruby
CALSCALE:GREGORIAN
METHOD:PUBLISH
BEGIN:VEVENT
DTSTAMP:20260421T084318Z
UID:52-1523274@faithphx.org
DTSTART:20260323T233000Z
DTEND:20260324T003000Z
CLASS:PUBLIC
CREATED:20260420T202540
DESCRIPTION:Small Group - Pastor Deon
LAST-MODIFIED:20260420T202540
LOCATION:760 Valley road Phoenixvile
SUMMARY:Small Group - Pastor Deon
URL;VALUE=URI:https://www.faithphx.org/events/small-group-pastor-deon/2026-
 03-23
END:VEVENT
END:VCALENDAR
